BEGIN:VCALENDAR
VERSION:2.0
PRODID:-//MAW - Medizinische Ausstellungs- und Werbegesellschaft//NONSGML International Exhibitions & Advertising//EN
METHOD:PUBLISH
BEGIN:VEVENT
UID:GYNONK27_E@media.co.at
ORGANIZER:mailto:maw@media.co.at
SUMMARY:XXXV. Wissenschaftliche Tagung der Arbeitsgemeinschaft für Gynäkologische Onkologie (AGO)
DTSTAMP:20260421T135105
DTSTART:20270406T000000
DTEND:20270410T235959
LOCATION:Congress Center Salzburg, Auerspergstraße 6 5020 Salzburg, Austria
DESCRIPTION:\n\nExhibition management: MAW - Medizinische Ausstellungs- und Werbegesellschaft International Exhibitions & Advertising, Freyung 6/3/3, 1010 Wien, \nTel.: +43 1 536 63-32, Sonja Chmella, \nTel.: +43 1 536 63-68, Karin Malits, \nFax: +43/1/535 60 16, \nE-mail: maw@media.co.at 
CLASS:PUBLIC
END:VEVENT
END:VCALENDAR
